BEGIN:VCALENDAR
VERSION:2.0
PRODID:-//Tukios.com/
BEGIN:VEVENT
UID:6988d919-7f18-45db-bea3-31b912e72a11@www.guerryforbesfhlakecity.com
DTSTAMP:20260420T102620Z
DTSTART:20260420T163000Z
DTEND:20260420T173000Z
SUMMARY:Graveside Service
DESCRIPTION:
URL:https://www.guerryforbesfhlakecity.com/obituaries/ronnie-campbell
LOCATION:Florida National Cemetery 6502 SW 102nd Ave  Bushnell FL 33513
GEO:28.6057101;-82.2101502
END:VEVENT
END:VCALENDAR